BEGIN:VCALENDAR
VERSION:2.0
PRODID:-//SVP Hombrechtikon //NONSGML Events //EN
CALSCALE:GREGORIAN
X-WR-CALNAME:SVP Hombrechtikon
BEGIN:VEVENT
CREATED:20240203T221054Z
UID:1735
DTEND:20241121T210000
DTSTART:20241121T200000
DTSTAMP:20260421T014927Z
LOCATION:
DESCRIPTION:
SUMMARY:Parteiversammlung
ORGANIZER:
URL;VALUE=URI:https://www.svp-hombrechtikon.ch/termine/parteiversammlung-14/
TRANSP:OPAQUE
END:VEVENT
END:VCALENDAR
