BEGIN:VCALENDAR
VERSION:2.0
PRODID:-//SVP Hombrechtikon //NONSGML Events //EN
CALSCALE:GREGORIAN
X-WR-CALNAME:SVP Hombrechtikon
BEGIN:VEVENT
CREATED:20191127T225331Z
UID:628
DTEND:20200927T000000
DTSTART:20200927T000000
DTSTAMP:20260420T035522Z
LOCATION:
DESCRIPTION:
SUMMARY:Abstimmungssonntag
ORGANIZER:
URL;VALUE=URI:https://www.svp-hombrechtikon.ch/termine/abstimmungssonntag-3/
TRANSP:OPAQUE
END:VEVENT
END:VCALENDAR
